BEGIN:VCALENDAR
VERSION:2.0
PRODID:-//Eglise Evangélique de Réveil - ECPv6.3.7//NONSGML v1.0//EN
CALSCALE:GREGORIAN
METHOD:PUBLISH
X-ORIGINAL-URL:https://www.eernyon.ch
X-WR-CALDESC:évènements pour Eglise Evangélique de Réveil
REFRESH-INTERVAL;VALUE=DURATION:PT1H
X-Robots-Tag:noindex
X-PUBLISHED-TTL:PT1H
BEGIN:VTIMEZONE
TZID:Europe/Zurich
BEGIN:DAYLIGHT
TZOFFSETFROM:+0100
TZOFFSETTO:+0200
TZNAME:CEST
DTSTART:20260329T010000
END:DAYLIGHT
BEGIN:STANDARD
TZOFFSETFROM:+0200
TZOFFSETTO:+0100
TZNAME:CET
DTSTART:20261025T010000
END:STANDARD
END:VTIMEZONE
BEGIN:VEVENT
DTSTART;TZID=Europe/Zurich:20260118T100000
DTEND;TZID=Europe/Zurich:20260118T113000
DTSTAMP:20260422T213552
CREATED:20230621T103151Z
LAST-MODIFIED:20251205T174109Z
UID:9390-1768730400-1768735800@www.eernyon.ch
SUMMARY:Culte oeucuménique
DESCRIPTION:Pas de Culte au Cèdre. Rdv au Temple de Nyon.
URL:https://www.eernyon.ch/agenda/celebration-au-cedre-2026-01-18/
LOCATION:Temple de Nyon\, rue du Temple 2
CATEGORIES:Cultes
ATTACH;FMTTYPE=image/png:https://www.eernyon.ch/wp-content/uploads/2023/06/OECUMENIQUE-1.png
END:VEVENT
END:VCALENDAR